BEGIN:VCALENDAR
VERSION:2.0
PRODID:-//eventon.com NONSGML v1.0//EN
CALSCALE:GREGORIAN
METHOD:PUBLISH
BEGIN:VEVENT
UID:69e53cb260517
DTSTAMP:20260419T203602Z
DTSTART:20240215T183000Z
DTEND:20240215T213000Z
LOCATION:Complexe Ã‰lodie-P.-Babin 2225 route Ã‰douard-VII
SUMMARY:Peinture acrylique
DESCRIPTION:StÃ©phanie Fiola\,  artiste peintre\,  prÃ©sente des ateliers Ã
   suivre Ã©tape par Ã©tape pour la rÃ©alisation dâ€™une Å“uvre peinte Ã  lâ
 €™acrylique. Offert Ã  tous les niveaux. 15 fÃ©vrier &#8211; Le hibou 18 av
 ril &#8211; Le flamant rose 45$ â€“ rÃ©servation requise MatÃ©riel inclus\n
 https://ville.saintphilippe.quebec/evenement/peinture-acrylique/
URL:https://ville.saintphilippe.quebec/evenement/peinture-acrylique/
END:VEVENT
END:VCALENDAR