BEGIN:VCALENDAR
VERSION:2.0
PRODID:-//eventon.com NONSGML v1.0//EN
CALSCALE:GREGORIAN
METHOD:PUBLISH
BEGIN:VEVENT
UID:69e7315bd009a
DTSTAMP:20260421T081211Z
DTSTART:20240314T183000Z
DTEND:20240314T213000Z
LOCATION:Complexe Élodie-P.-Babin 2225 route Édouard-VII
SUMMARY:Aquarelle
DESCRIPTION:Stéphanie Fiola\,  artiste peintre\,  vous invite à découvri
 r l’aquarelle. Elle vous transmettra ses connaissances dans la réalisati
 on d’une œuvre inspirée par le printemps et la nature. 45 $ – réserv
 ation requise Matériel inclus\nhttps://ville.saintphilippe.quebec/evenemen
 t/aquarelle/
URL:https://ville.saintphilippe.quebec/evenement/aquarelle/
END:VEVENT
END:VCALENDAR