BEGIN:VCALENDAR
VERSION:2.0
PRODID:-//eventon.com NONSGML v1.0//EN
CALSCALE:GREGORIAN
METHOD:PUBLISH
BEGIN:VEVENT
UID:69e4f2774a42c
DTSTAMP:20260419T151919Z
DTSTART:20231022T080000Z
DTEND:20231022T120000Z
LOCATION:
SUMMARY:Écocentre ouvert
DESCRIPTION:La Ville de Saint-Philippe ouvrira l’écocentre sur rendez-vo
 us le dimanche 22 octobre\,  de 8 h à 12 h. Ce service est gratuit et offe
 rt aux citoyens. Une preuve de résidence sera exigée à votre arrivée. P
 our prendre un rendez-vous 450 659-0204\,  poste 322 Matières acceptées e
 t refusées Pour connaître les[..]\nhttps://ville.saintphilippe.quebec/eve
 nement/ecocentre-ouvert-3-2/
URL:https://ville.saintphilippe.quebec/evenement/ecocentre-ouvert-3-2/
END:VEVENT
END:VCALENDAR