BEGIN:VCALENDAR
VERSION:2.0
PRODID:-//eventon.com NONSGML v1.0//EN
CALSCALE:GREGORIAN
METHOD:PUBLISH
BEGIN:VEVENT
UID:69e73165c081d
DTSTAMP:20260421T081221Z
DTSTART:20230817T190000Z
DTEND:20230817T235000Z
LOCATION:Parc Gérard-Laframboise
SUMMARY:THÉÂTRE EN PLEIN AIR | La ballade de Robin des bois
DESCRIPTION:Venez assister en famille à la pièce de théâtre La ballade 
 de Robin des bois : Robin de Loxley était bien loin d’être destiné à 
 une vie héroïque au moment de croiser un étrange barde sur son chemin. L
 e voilà propulsé bien malgré lui dans une aventure où les injustices\, 
 [..]\nhttps://ville.saintphilippe.quebec/evenement/theatre-en-plein-air-la-
 ballade-de-robin-des-bois/
URL:https://ville.saintphilippe.quebec/evenement/theatre-en-plein-air-la-ballade-de-robin-des-bois/
END:VEVENT
END:VCALENDAR