BEGIN:VCALENDAR
VERSION:2.0
PRODID:-//eventon.com NONSGML v1.0//EN
CALSCALE:GREGORIAN
METHOD:PUBLISH
BEGIN:VEVENT
UID:69e748e33262b
DTSTAMP:20260421T095235Z
DTSTART:20230428T190000Z
DTEND:20230428T220000Z
LOCATION:Complexe Élodie-P.-Babin 2225 route Édouard-VII
SUMMARY:Danse des jeunes
DESCRIPTION:C’est l’heure de bouger\,  de s’éclater et de faire la f
 ête! Ce printemps\,  les jeunes sont invités à danser sous différents t
 hèmes. Entrée gratuite Cantine sur place. Prévoir de l&rsquo;argent comp
 tant. Note : pour quitter les lieux\,  les jeunes doivent être accompagné
 s d’un adulte. Réservation obligatoire &#8211; places limitées En[..]\n
 https://ville.saintphilippe.quebec/evenement/danse-des-jeunes-2023-2/
URL:https://ville.saintphilippe.quebec/evenement/danse-des-jeunes-2023-2/
END:VEVENT
END:VCALENDAR