BEGIN:VCALENDAR
VERSION:2.0
PRODID:-//eventon.com NONSGML v1.0//EN
CALSCALE:GREGORIAN
METHOD:PUBLISH
BEGIN:VEVENT
UID:69e733de42a72
DTSTAMP:20260421T082254Z
DTSTART:20230430T100000Z
DTEND:20230430T113000Z
LOCATION:Complexe Élodie-P.-Babin 2225 route Édouard-VII
SUMMARY:Cuisine pour enfants
DESCRIPTION:Lors de cet atelier\,  les enfants découvriront les bienfaits 
 des aliments et apprendront à les cuisiner en quelques recettes simples. A
 ctivité animée par Houda Elkherchi 30 $ &#8211; Matériel et ingrédients
  inclus Inscrivez-vous dès maintenant ! Inscription en ligne sur la platef
 orme d&rsquo;inscription de la Ville de Saint-Philippe\nhttps://ville.saint
 philippe.quebec/evenement/cuisine-pour-enfants/
URL:https://ville.saintphilippe.quebec/evenement/cuisine-pour-enfants/
END:VEVENT
END:VCALENDAR