BEGIN:VCALENDAR
VERSION:2.0
PRODID:-//eventon.com NONSGML v1.0//EN
CALSCALE:GREGORIAN
METHOD:PUBLISH
BEGIN:VEVENT
UID:69e7341137b93
DTSTAMP:20260421T082345Z
DTSTART:20230330
DTEND:20230331
LOCATION:
SUMMARY:Salon du livre de Roussillon 2023
DESCRIPTION:Les 30 et 31 mars ainsi que les 1er et 2 avril\,  à Candiac\, 
  découvrez les auteurs de la Montérégie\,  participez à des conférence
 s et bouquinez ! Venez également échanger avec le porte-parole de cette 5
 e édition : Pierre Hébert\,  humoriste\,  auteur et acteur bien connu du 
 petit écran. Surveillez[..]\nhttps://ville.saintphilippe.quebec/evenement/
 salon-du-livre-de-roussillon-2023/
URL:https://ville.saintphilippe.quebec/evenement/salon-du-livre-de-roussillon-2023/
END:VEVENT
END:VCALENDAR