BEGIN:VCALENDAR
VERSION:2.0
PRODID:-//eventon.com NONSGML v1.0//EN
CALSCALE:GREGORIAN
METHOD:PUBLISH
BEGIN:VEVENT
UID:69e7323377036
DTSTAMP:20260421T081547Z
DTSTART:20230207
DTEND:20230208
LOCATION:BibliothÃ¨que Le Vaisseau dâ€™Or 2223\,  route Ã‰douard-VII\,  Saint-Philippe
SUMMARY:Exposition Â« Alter Ego Â»
DESCRIPTION:Existe-t-il des ressemblances entre lâ€™homme et lâ€™animal ? L
 â€™exposition Â« Alter Ego Â»\,  proposÃ©e par lâ€™artiste Marie Montiel\, 
  sâ€™intÃ©resse aux similitudes tant physiques quâ€™Ã©motives entre lâ€™hom
 me et lâ€™animal. Elle met en relief nos particularitÃ©s et nos singularitÃ
 ©s et pose un regard sensible sur nos liens. Ã€ la fois fragiles et[..]\nht
 tps://ville.saintphilippe.quebec/evenement/exposition-alter-go/
URL:https://ville.saintphilippe.quebec/evenement/exposition-alter-go/
END:VEVENT
END:VCALENDAR