BEGIN:VCALENDAR
VERSION:2.0
PRODID:-//eventon.com NONSGML v1.0//EN
CALSCALE:GREGORIAN
METHOD:PUBLISH
BEGIN:VEVENT
UID:69e4c4635648d
DTSTAMP:20260419T120243Z
DTSTART:20230110T183000Z
DTEND:20230110T192000Z
LOCATION:Bibliothèque Le Vaisseau d’Or 2223\,  route Édouard-VII\,  Saint-Philippe
SUMMARY:Heures du conte en pyjama
DESCRIPTION:Conçues et animées par le service d’animation P’tits cœu
 rs contes Nouveauté ! Venez découvrir le monde magique des livres en pyja
 ma ! Martine Moreau\,  éducatrice spécialisée et conteuse\,  présente d
 es activités parents-enfants et des histoires interactives qui favorisent 
 le développement global des tout-petits. Gratuit &#8211; réservation requ
 ise\,  places limitées 450[..]\nhttps://ville.saintphilippe.quebec/eveneme
 nt/heures-du-conte-en-pyjama/
URL:https://ville.saintphilippe.quebec/evenement/heures-du-conte-en-pyjama/
END:VEVENT
END:VCALENDAR