BEGIN:VCALENDAR
VERSION:2.0
PRODID:-//eventon.com NONSGML v1.0//EN
CALSCALE:GREGORIAN
METHOD:PUBLISH
BEGIN:VEVENT
UID:69e604983a8a4
DTSTAMP:20260420T104856Z
DTSTART:20230120T190000Z
DTEND:20230120T220000Z
LOCATION:Complexe Élodie-P.-Babin 2225 route Édouard-VII
SUMMARY:Danse des jeunes
DESCRIPTION:C’est l’heure de bouger\,  de s’éclater et de faire la f
 ête! Cet hiver\,  les jeunes sont invités à danser sous différents thè
 mes. Vendredi 20 janvier 2023 Vendredi 24 février 2023 Vendredi 31 mars 20
 23 Nouveauté : entrée gratuite Cantine sur place. Prévoir de l&rsquo;arg
 ent comptant. Note : pour quitter les[..]\nhttps://ville.saintphilippe.queb
 ec/evenement/danse-des-jeunes-2023/
URL:https://ville.saintphilippe.quebec/evenement/danse-des-jeunes-2023/
END:VEVENT
END:VCALENDAR