BEGIN:VCALENDAR
VERSION:2.0
PRODID:-//eventon.com NONSGML v1.0//EN
CALSCALE:GREGORIAN
METHOD:PUBLISH
BEGIN:VEVENT
UID:69e604bbbbb9c
DTSTAMP:20260420T104931Z
DTSTART:20230429T100000Z
DTEND:20230429T113000Z
LOCATION:Complexe Élodie-P.-Babin 2225 route Édouard-VII
SUMMARY:Formation | En route vers mon premier emploi
DESCRIPTION:Cette conférence\,  présentée par le Carrefour jeunesse empl
 oi Roussillon\,  présente les attitudes gagnantes en emploi ainsi que des 
 trucs et conseils pour concilier le travail\,  les études et la vie person
 nelle. Elle permet aussi de comprendre un relevé de paie et les grandes li
 gnes concernant les normes du travail. Gratuit[..]\nhttps://ville.saintphil
 ippe.quebec/evenement/formation-en-route-vers-mon-premier-emploi/
URL:https://ville.saintphilippe.quebec/evenement/formation-en-route-vers-mon-premier-emploi/
END:VEVENT
END:VCALENDAR