BEGIN:VCALENDAR
VERSION:2.0
PRODID:-//eventon.com NONSGML v1.0//EN
CALSCALE:GREGORIAN
METHOD:PUBLISH
BEGIN:VEVENT
UID:69e6050897609
DTSTAMP:20260420T105048Z
DTSTART:20230109
DTEND:20230110
LOCATION:
SUMMARY:Collecte de sapins naturels
DESCRIPTION:En janvier\,  la Ville offre le service de collecte de sapins n
 aturels. Veuillez déposer vos sapins naturels\,  dépouillés de tout orn
 ement\,  en bordure de rue\,  la veille de la collecte. Dates des collectes
  2023 : Lundi 9 janvier Mardi 10 janvier Lundi 16 janvier Mardi 17 janvier\
 nhttps://ville.saintphilippe.quebec/evenement/collecte-de-sapins-naturels/
URL:https://ville.saintphilippe.quebec/evenement/collecte-de-sapins-naturels/
END:VEVENT
END:VCALENDAR