BEGIN:VCALENDAR
VERSION:2.0
PRODID:-//eventon.com NONSGML v1.0//EN
CALSCALE:GREGORIAN
METHOD:PUBLISH
BEGIN:VEVENT
UID:69e5eb6a11dbf
DTSTAMP:20260420T090130Z
DTSTART:20221205T173000Z
DTEND:20221205T235000Z
LOCATION:Complexe Élodie-P.-Babin 2225 route Édouard-VII
SUMMARY:Séance extraordinaire du conseil municipal
DESCRIPTION:La séance extraordinaire du conseil municipal se tiendra à 17
  h 30 au Complexe Élodie-P.-Babin. Vous pouvez consulter le calendrier des
  séances et l&rsquo;ordre du jour en cliquant ici. Période de questions d
 u public par courriel ou par téléphone Les citoyens peuvent transmettre l
 eurs questions portant sur l’ordre du jour[..]\nhttps://ville.saintphilip
 pe.quebec/evenement/seance-extraordinaire-du-conseil-municipal/
URL:https://ville.saintphilippe.quebec/evenement/seance-extraordinaire-du-conseil-municipal/
END:VEVENT
END:VCALENDAR