BEGIN:VCALENDAR
VERSION:2.0
PRODID:-//eventon.com NONSGML v1.0//EN
CALSCALE:GREGORIAN
METHOD:PUBLISH
BEGIN:VEVENT
UID:69e88c7fba22e
DTSTAMP:20260422T085319Z
DTSTART:20221109T190000Z
DTEND:20221109T200000Z
LOCATION:Complexe Élodie-P.-Babin 2225 route Édouard-VII
SUMMARY:Atelier | Constitution d'un patrimoine au Canada : découvrez des stratégies et des solutions pour bien gérer votre argent
DESCRIPTION:Atelier de littératie financière offert par CPA Canada Cet at
 elier s’adresse principalement aux nouveaux immigrants établis au Canada
  depuis plus de deux ans. Objectifs de l’atelier : Apprendre à établir 
 un budget réaliste Comprendre les flux de trésorerie et apprendre à les 
 gérer Apprendre à bien gérer l’argent Apprendre à[..]\nhttps://ville.
 saintphilippe.quebec/evenement/atelier-constitution-dun-patrimoine-au-canad
 a-decouvrez-des-strategies-et-des-solutions-pour-bien-gerer-votre-argent/
URL:https://ville.saintphilippe.quebec/evenement/atelier-constitution-dun-patrimoine-au-canada-decouvrez-des-strategies-et-des-solutions-pour-bien-gerer-votre-argent/
END:VEVENT
END:VCALENDAR