BEGIN:VCALENDAR
VERSION:2.0
PRODID:-//eventon.com NONSGML v1.0//EN
CALSCALE:GREGORIAN
METHOD:PUBLISH
BEGIN:VEVENT
UID:69e74691189ab
DTSTAMP:20260421T094241Z
DTSTART:20221104T183000Z
DTEND:20221104T235000Z
LOCATION:Complexe Élodie-P.-Babin 2225 route Édouard-VII
SUMMARY:Atelier de slam avec MC June
DESCRIPTION:Le slam\,  ce mode d’expression contemporain\,  permet à cha
 cun de partager ses expériences\,  ses pensées ou même son monde imagina
 ire. L’idée générale de cette activité est de mettre concrètement\, 
  à la portée de tous\,  la poésie des temps modernes. Des jeux d’écri
 ture\,  d’improvisation\,  de rimes et plus encore alimenteront les[..]\n
 https://ville.saintphilippe.quebec/evenement/atelier-de-slam/
URL:https://ville.saintphilippe.quebec/evenement/atelier-de-slam/
END:VEVENT
END:VCALENDAR