BEGIN:VCALENDAR
VERSION:2.0
PRODID:-//eventon.com NONSGML v1.0//EN
CALSCALE:GREGORIAN
METHOD:PUBLISH
BEGIN:VEVENT
UID:69e733f914db4
DTSTAMP:20260421T082321Z
DTSTART:20220901T190000Z
DTEND:20220901T235000Z
LOCATION:Bibliothèque Le Vaisseau d’Or 2223\,  route Édouard-VII\,  Saint-Philippe
SUMMARY:Club de lecture pour adultes
DESCRIPTION:Joignez vous à notre club de lecture pour adultes qui se veut 
 convivial et sans prétention. Si le partage de vos coups de cœur vous int
 erpelle\,  n’hésitez pas à nous écrire. Gratuit Inscription requise 45
 0 659-7701\,  poste 233 bibliotheque@ville.saintphilippe.quebec &nbsp;\nhtt
 ps://ville.saintphilippe.quebec/evenement/club-de-lecture-pour-adultes-2/
URL:https://ville.saintphilippe.quebec/evenement/club-de-lecture-pour-adultes-2/
END:VEVENT
END:VCALENDAR