BEGIN:VCALENDAR
VERSION:2.0
PRODID:-//eventon.com NONSGML v1.0//EN
CALSCALE:GREGORIAN
METHOD:PUBLISH
BEGIN:VEVENT
UID:69e6077fe0bca
DTSTAMP:20260420T110119Z
DTSTART:20220814
DTEND:20220815
LOCATION:Musée d&#039;archéologie de Roussillon 214 Rue Saint-Ignace\,  La Prairie\,  QC J5R 1E6\,  Canada
SUMMARY:Visite de la réserve | Musée d'archéologie de Roussillon
DESCRIPTION:En août : le Mois de l’archéologie Pour souligner le Mois d
 e l’archéologie\,  le Musée d&rsquo;archéologie de Roussillon organise
  des activités originales et uniques\,  qui sont offertes sur réservation
  seulement. Visite guidée de la réserve – 14 août 2022 L’archéologu
 e du Musée vous ouvre les portes de la réserve archéologique[..]\nhttps:
 //ville.saintphilippe.quebec/evenement/visite-de-la-reserve-musee-darcheolo
 gie-de-roussillon/
URL:https://ville.saintphilippe.quebec/evenement/visite-de-la-reserve-musee-darcheologie-de-roussillon/
END:VEVENT
END:VCALENDAR