BEGIN:VCALENDAR
VERSION:2.0
PRODID:-//eventon.com NONSGML v1.0//EN
CALSCALE:GREGORIAN
METHOD:PUBLISH
BEGIN:VEVENT
UID:69e604f821d7f
DTSTAMP:20260420T105032Z
DTSTART:20220602T190000Z
DTEND:20220602T235000Z
LOCATION:Parc Hervé-Perrier (Rémillard)
SUMMARY:Club de lecture en plein air (adulte)
DESCRIPTION:Apportez vos chaises et vos coups de coeur\,  car le club de le
 cture part en tournée dans un parc près de chez vous! C’est le moment d
 e venir à la rencontre d’autres lecteurs et de partager sur vos lectures
  estivales. 2 juin à 19 h : parc Hervé-Perrier (au bout[..]\nhttps://vill
 e.saintphilippe.quebec/evenement/club-de-lecture-en-plein-air-adulte/
URL:https://ville.saintphilippe.quebec/evenement/club-de-lecture-en-plein-air-adulte/
END:VEVENT
END:VCALENDAR