BEGIN:VCALENDAR
VERSION:2.0
PRODID:-//eventon.com NONSGML v1.0//EN
CALSCALE:GREGORIAN
METHOD:PUBLISH
BEGIN:VEVENT
UID:69e5ead4800f6
DTSTAMP:20260420T085900Z
DTSTART:20220720T100000Z
DTEND:20220720T103000Z
LOCATION:Parc Gérard-Laframboise
SUMMARY:Heure du conte en plein air
DESCRIPTION:Pour la période estivale\,  la bibliothèque « Le  Vaisseau
  d&rsquo;Or » présente l&rsquo;heure du conte avec P&rsquo;tits coeurs c
 ontes au parc Gérard-Laframboise. Mercredi 20 juillet Samedi 30 juillet Me
 rcredi 17 août Samedi 27 août Public cible : 2 à 5 ans Horaire : 10 h
  à 10 h 30 L’animation a lieu sous l’auvent vert derrière les[..]\n
 https://ville.saintphilippe.quebec/evenement/heure-du-conte-en-plein-air/
URL:https://ville.saintphilippe.quebec/evenement/heure-du-conte-en-plein-air/
END:VEVENT
END:VCALENDAR