BEGIN:VCALENDAR
VERSION:2.0
PRODID:-//eventon.com NONSGML v1.0//EN
CALSCALE:GREGORIAN
METHOD:PUBLISH
BEGIN:VEVENT
UID:69e604b477653
DTSTAMP:20260420T104924Z
DTSTART:20220715T200000Z
DTEND:20220715T235000Z
LOCATION:Parc Jean-Paul-Dupuis 9G95+67 Saint-Philippe\,  Québec
SUMMARY:Cinéma en plein air - Encanto
DESCRIPTION:Cet été\,  les jeudis et vendredis du 7 juillet au 12 août\,
   on vous présente du cinéma en plein air. Animation pour les enfants à 
 compter de 20 h\,  les projections débutent au coucher du soleil. On vous 
 suggère d&rsquo;apporter vos chaises ou couvertures\,  du chasse-moustique
 s et vos collations! Vendredi[..]\nhttps://ville.saintphilippe.quebec/evene
 ment/cinema-en-plein-air-encanto-2/
URL:https://ville.saintphilippe.quebec/evenement/cinema-en-plein-air-encanto-2/
END:VEVENT
END:VCALENDAR