BEGIN:VCALENDAR
VERSION:2.0
PRODID:-//eventon.com NONSGML v1.0//EN
CALSCALE:GREGORIAN
METHOD:PUBLISH
BEGIN:VEVENT
UID:69e74916e4128
DTSTAMP:20260421T095326Z
DTSTART:20220507T090000Z
DTEND:20220507T120000Z
LOCATION:Parc GÃ©rard-Laframboise
SUMMARY:JournÃ©e sÃ©curitÃ© Ã  vÃ©lo
DESCRIPTION:LaÂ JournÃ©e sÃ©curitÃ© Ã  vÃ©loÂ pour toute la famille se dÃ©r
 oulera le samedi 7 mai 2022 de 9 h Ã  12 h au parc GÃ©rard-Laframboise\,  p
 rÃ¨s de la surface multifonctionnelle. Lors de la premiÃ¨re Ã©dition de laÂ
  JournÃ©e sÃ©curitÃ© Ã  vÃ©lo\,  la Ville de Saint-Philippe vous invite Ã  
 venir en apprendre davantage surÂ :[..]\nhttps://ville.saintphilippe.quebec
 /evenement/journee-securite-a-velo/
URL:https://ville.saintphilippe.quebec/evenement/journee-securite-a-velo/
END:VEVENT
END:VCALENDAR