BEGIN:VCALENDAR
VERSION:2.0
PRODID:-//eventon.com NONSGML v1.0//EN
CALSCALE:GREGORIAN
METHOD:PUBLISH
BEGIN:VEVENT
UID:69e730fca8f03
DTSTAMP:20260421T081036Z
DTSTART:20220302T100000Z
DTEND:20220302T110000Z
LOCATION:Complexe Élodie-P.-Babin 2225 route Édouard-VII
SUMMARY:SEMAINE DE RELÂCHE | Entraînement parent-enfant
DESCRIPTION:Pour les familles Bouger est vital! On vous propose une petite 
 séance de mise en forme sous le style « cross-training » adaptée à tou
 te la famille\,  pour le plaisir et le dépassement de tous! Gratuit\,  ins
 cription requise Information 450 659-7701\,  poste  258\nhttps://ville.sai
 ntphilippe.quebec/evenement/semaine-de-relache-entrainement-parent-enfant-2
 /
URL:https://ville.saintphilippe.quebec/evenement/semaine-de-relache-entrainement-parent-enfant-2/
END:VEVENT
END:VCALENDAR