BEGIN:VCALENDAR
VERSION:2.0
PRODID:-//eventon.com NONSGML v1.0//EN
CALSCALE:GREGORIAN
METHOD:PUBLISH
BEGIN:VEVENT
UID:69e749168c94b
DTSTAMP:20260421T095326Z
DTSTART:20220301T133000Z
DTEND:20220301T150000Z
LOCATION:Complexe Élodie-P.-Babin 2225 route Édouard-VII
SUMMARY:SEMAINE DE RELÂCHE | Percussions parent-enfant
DESCRIPTION:Pour les familles Les familles sont invitées à libérer leur 
 énergie créatrice au rythme des instruments d’ailleurs. Découvrez les 
 cultures à travers le monde par le biais de leurs sonorités. Gratuit\,  i
 nscription requise Information 450 659-7701\,  poste  258\nhttps://ville.s
 aintphilippe.quebec/evenement/semaine-de-relache-percussions-parent-enfant/
URL:https://ville.saintphilippe.quebec/evenement/semaine-de-relache-percussions-parent-enfant/
END:VEVENT
END:VCALENDAR