BEGIN:VCALENDAR
VERSION:2.0
PRODID:-//eventon.com NONSGML v1.0//EN
CALSCALE:GREGORIAN
METHOD:PUBLISH
BEGIN:VEVENT
UID:69e74587deaad
DTSTAMP:20260421T093815Z
DTSTART:20211005T190000Z
DTEND:20211005T235000Z
LOCATION:Complexe Élodie-P.-Babin 2225 route Édouard-VII
SUMMARY:Conseil de ville OCTOBRE
DESCRIPTION:La séance ordinaire du conseil municipal se tiendra à 19 h\, 
  au Complexe Élodie-P.-Babin. Le respect des consignes sanitaires est obli
 gatoire. Vous pouvez consulter le calendrier des séances et l&rsquo;ordre 
 du jour en cliquant ici. &nbsp;\nhttps://ville.saintphilippe.quebec/eveneme
 nt/conseil-de-ville-octobre-3/
URL:https://ville.saintphilippe.quebec/evenement/conseil-de-ville-octobre-3/
END:VEVENT
END:VCALENDAR