BEGIN:VCALENDAR
VERSION:2.0
PRODID:-//eventon.com NONSGML v1.0//EN
CALSCALE:GREGORIAN
METHOD:PUBLISH
BEGIN:VEVENT
UID:69e6378ab1a57
DTSTAMP:20260420T142618Z
DTSTART:20210920T170000Z
DTEND:20210920T235000Z
LOCATION:
SUMMARY:Conseil de ville à HUIS CLOS (par vidéoconférence) - Séance extraordinaire
DESCRIPTION:La séance extraordinaire du conseil municipal se tiendra à 17
  h\,  à huis clos\,  par vidéoconférence. Vous pouvez consulter l&rsquo;
 ordre du jour en cliquant ici. (PDF) Période de questions du public par co
 urriel ou par téléphone Les citoyens pourront transmettre leurs questions
  portant sur l’ordre du jour de la séance\, [..]\nhttps://ville.saintphi
 lippe.quebec/evenement/conseil-de-ville-a-huis-clos-par-videoconference-sea
 nce-extraordinaire/
URL:https://ville.saintphilippe.quebec/evenement/conseil-de-ville-a-huis-clos-par-videoconference-seance-extraordinaire/
END:VEVENT
END:VCALENDAR