BEGIN:VCALENDAR
VERSION:2.0
PRODID:-//eventon.com NONSGML v1.0//EN
CALSCALE:GREGORIAN
METHOD:PUBLISH
BEGIN:VEVENT
UID:69e61e665a306
DTSTAMP:20260420T123902Z
DTSTART:20210918T100000Z
DTEND:20210918T235000Z
LOCATION:Parc Gérard-Laframboise
SUMMARY:Heure du conte au parc Gérard-Laframboise
DESCRIPTION:Nous avons tous hâte au retour des heures du conte en biblioth
 èque en compagnie de Martine des Ptits cœurs contes\,  mais en attendant\
 ,  nous vous invitons à en profiter en plein air en direct du parc Gérard
 -Laframboise. 3 ans + Informations: bibliotheque@ville.saintphilippe.quebec
  ou 450 659-7701\,  poste 233. &nbsp; &nbsp;\nhttps://ville.saintphilippe.q
 uebec/evenement/heure-du-conte-au-parc-gerard-laframboise/
URL:https://ville.saintphilippe.quebec/evenement/heure-du-conte-au-parc-gerard-laframboise/
END:VEVENT
END:VCALENDAR