BEGIN:VCALENDAR
VERSION:2.0
PRODID:-//eventon.com NONSGML v1.0//EN
CALSCALE:GREGORIAN
METHOD:PUBLISH
BEGIN:VEVENT
UID:69e604b4f1d02
DTSTAMP:20260420T104924Z
DTSTART:20210812T150000Z
DTEND:20210812T190000Z
LOCATION:Complexe Élodie-P.-Babin 2225 route Édouard-VII
SUMMARY:ANNULÉ - MARCHÉ PUBLIC 12 août 2021
DESCRIPTION:En raison d’un risque d’orages forts cet après-midi et en 
 début de soirée\,  doublé d’un avertissement de chaleur\,  le marché 
 public est annulé ce jeudi 12 août. Considérant le temps et les ressourc
 es affectées au montage du site et des nombreux déplacements des marchand
 s\,  nous sommes tenus de prendre cette[..]\nhttps://ville.saintphilippe.qu
 ebec/evenement/annule-marche-public-12-aout-2021/
URL:https://ville.saintphilippe.quebec/evenement/annule-marche-public-12-aout-2021/
END:VEVENT
END:VCALENDAR