BEGIN:VCALENDAR
VERSION:2.0
PRODID:-//eventon.com NONSGML v1.0//EN
CALSCALE:GREGORIAN
METHOD:PUBLISH
BEGIN:VEVENT
UID:69e5eb905ae39
DTSTAMP:20260420T090208Z
DTSTART:20210925T090000Z
DTEND:20210925T140000Z
LOCATION:Parc Gérard-Laframboise
SUMMARY:ANNULEÉ - Course de boîtes à savon 2021
DESCRIPTION:Mise à jour du 3 septembre 2021: En raison d&rsquo;un faible n
 ombre d&rsquo;inscriptions\,  la 2e édition de la course de boîtes à sav
 on prévue le samedi 25 septembre 2021 est annulée. Adeptes de bricolage 
 et de voiture\,  à vos outils! Il est temps de vous inscrire à cette deux
 ième édition de[..]\nhttps://ville.saintphilippe.quebec/evenement/course-
 de-boites-a-savon-2021/
URL:https://ville.saintphilippe.quebec/evenement/course-de-boites-a-savon-2021/
END:VEVENT
END:VCALENDAR