BEGIN:VCALENDAR
VERSION:2.0
PRODID:-//eventon.com NONSGML v1.0//EN
CALSCALE:GREGORIAN
METHOD:PUBLISH
BEGIN:VEVENT
UID:69e746730a407
DTSTAMP:20260421T094211Z
DTSTART:20210729T110000Z
DTEND:20210729T150000Z
LOCATION:Parc aux oiseaux rue de la rivière\,  Saint-Philippe\,  Québec
SUMMARY:Espace pour la vie en visite à Saint-Philippe
DESCRIPTION:La Ville de Saint-Philippe vous invite à une activité gratuit
 e en plein air avec l’équipe d’Espace pour la vie le jeudi 29 juillet 
 et le vendredi 30 juillet entre 11 h et 15 h au parc des Oiseaux\,  situé 
 sur la rue de la Rivière. Cet été\,  Espace pour la[..]\nhttps://ville.s
 aintphilippe.quebec/evenement/espace-pour-la-vie-en-visite-a-saint-philippe
 /
URL:https://ville.saintphilippe.quebec/evenement/espace-pour-la-vie-en-visite-a-saint-philippe/
END:VEVENT
END:VCALENDAR