BEGIN:VCALENDAR
VERSION:2.0
PRODID:-//eventon.com NONSGML v1.0//EN
CALSCALE:GREGORIAN
METHOD:PUBLISH
BEGIN:VEVENT
UID:69e73151632e6
DTSTAMP:20260421T081201Z
DTSTART:20210630T100000Z
DTEND:20210630T120000Z
LOCATION:Complexe Élodie-P.-Babin 2225 route Édouard-VII
SUMMARY:Clinique de vérification de sièges d'auto 2021
DESCRIPTION:Les agents aux relations communautaires de la Régie intermunic
 ipale de police Roussillon invitent les résidents de Saint-Philippe à fai
 re vérifier gratuitement l’installation de leur siège d’auto pour enf
 ants. Date : Mercredi 30 juin 2021 Heure : 10 h 00 à 12 h 00 Endroit : Sta
 tionnement du Complexe Élodie-P.-Babin Les[..]\nhttps://ville.saintphilipp
 e.quebec/evenement/clinique-de-verification-de-sieges-dauto-2021/
URL:https://ville.saintphilippe.quebec/evenement/clinique-de-verification-de-sieges-dauto-2021/
END:VEVENT
END:VCALENDAR