BEGIN:VCALENDAR
VERSION:2.0
PRODID:-//eventon.com NONSGML v1.0//EN
CALSCALE:GREGORIAN
METHOD:PUBLISH
BEGIN:VEVENT
UID:69e781657d27b
DTSTAMP:20260421T135341Z
DTSTART:20210818T190000Z
DTEND:20210818T235000Z
LOCATION:Parc Gérard-Laframboise
SUMMARY:THÉÂTRE EN PLEIN AIR "Contre le vent"
DESCRIPTION:Le Théâtre du 450 présente un nouveau spectacle de théâtre
  ambulant Don Quichotte et son éternel comparse Sancho Panza\,  errent cô
 te à côte sur la lande désertique de La Mancha. Le premier désire accom
 plir de grands exploits de chevalerie\,  tandis que le second rêve de la g
 loire et de la[..]\nhttps://ville.saintphilippe.quebec/evenement/theatre-en
 -plein-air-contre-le-vent/
URL:https://ville.saintphilippe.quebec/evenement/theatre-en-plein-air-contre-le-vent/
END:VEVENT
END:VCALENDAR