BEGIN:VCALENDAR
VERSION:2.0
PRODID:-//eventon.com NONSGML v1.0//EN
CALSCALE:GREGORIAN
METHOD:PUBLISH
BEGIN:VEVENT
UID:69e746055c3a7
DTSTAMP:20260421T094021Z
DTSTART:20210512T190000Z
DTEND:20210512T235000Z
LOCATION:Bibliothèque Le Vaisseau d’Or 2223\,  route Édouard-VII\,  Saint-Philippe
SUMMARY:ANNULÉE | CONFÉRENCE "Vous avez dit\,  zéro déchet?"
DESCRIPTION:ANNULÉE Conférence « Vous avez dit\,  zéro déchet? » (p
 ar l’Association québécoise Zéro Déchet) Par ZOOM S’initier au mode
  de vie zéro déchet et adopter les premiers gestes à la maison. Cette co
 nférence introductive permet de prendre conscience des déchets qui nous e
 ntourent et qui sont facilement évitables. Des trucs et astuces[..]\nhttps
 ://ville.saintphilippe.quebec/evenement/conference-vous-avez-dit-zero-deche
 t-2/
URL:https://ville.saintphilippe.quebec/evenement/conference-vous-avez-dit-zero-dechet-2/
END:VEVENT
END:VCALENDAR