BEGIN:VCALENDAR
VERSION:2.0
PRODID:-//eventon.com NONSGML v1.0//EN
CALSCALE:GREGORIAN
METHOD:PUBLISH
BEGIN:VEVENT
UID:69e74690e346a
DTSTAMP:20260421T094240Z
DTSTART:20210402T093000Z
DTEND:20210402T163000Z
LOCATION:MusÃ©e d&#039;archÃ©ologie de Roussillon 214 Rue Saint-Ignace\,  La Prairie\,  QC J5R 1E6\,  Canada
SUMMARY:PÃ¢ques au MusÃ©e!
DESCRIPTION:Pour PÃ¢ques\,  partez Ã  la chasse! Les 2\, Â 3Â etÂ 5Â avrilÂ
  2021 La traditionnelle chasse aux cocos* est de retour cette annÃ©e! Et po
 ur les passionnÃ©s de piraterie\,  nous avons aussi la chasse au trÃ©sor. *
  La distribution des chocolats se fera Ã  la fin de la chasse aux cocos afi
 n de respecter les[..]\nhttps://ville.saintphilippe.quebec/evenement/paques
 -au-musee/
URL:https://ville.saintphilippe.quebec/evenement/paques-au-musee/
END:VEVENT
END:VCALENDAR