BEGIN:VCALENDAR
VERSION:2.0
PRODID:-//eventon.com NONSGML v1.0//EN
CALSCALE:GREGORIAN
METHOD:PUBLISH
BEGIN:VEVENT
UID:69e73112d17a3
DTSTAMP:20260421T081058Z
DTSTART:20210305T190000Z
DTEND:20210305T210000Z
LOCATION:
SUMMARY:Semaine de relâche | Party de jeux avec le RANDOLPH
DESCRIPTION:L’équipe du RANDOLPH a adapté vos jeux préférés pour pou
 voir être joués en vidéoconférence et avec autant de plaisir qu’avant
 …voir même plus! Gratuit Inscription requise loisirs@ville.saintphilippe
 .quebec 450 659-7701\,  poste 258. Le Service des loisirs\,  de la culture 
 et de la vie communautaire est heureux de vous proposer une série d’acti
 vités[..]\nhttps://ville.saintphilippe.quebec/evenement/semaine-de-relache
 -party-de-jeux-avec-le-randolph/
URL:https://ville.saintphilippe.quebec/evenement/semaine-de-relache-party-de-jeux-avec-le-randolph/
END:VEVENT
END:VCALENDAR