BEGIN:VCALENDAR
VERSION:2.0
PRODID:-//eventon.com NONSGML v1.0//EN
CALSCALE:GREGORIAN
METHOD:PUBLISH
BEGIN:VEVENT
UID:69e7493467b96
DTSTAMP:20260421T095356Z
DTSTART:20210304T140000Z
DTEND:20210304T150000Z
LOCATION:
SUMMARY:Semaine de relâche | Peinture avec la pâte à modeler
DESCRIPTION:Dans cet atelier\,  les enfants apprendront de nouvelles techni
 ques de manipulation de la pâte à modeler pour faire leur création. Une 
 trousse est incluse * Récupération des trousses le vendredi 26 février e
 ntre 9 h et 19 h au Complexe Élodie-P.-Babin (2235\,  route Édouard-VII).
  Gratuit Inscription requise loisirs@ville.saintphilippe.quebec 450 659-770
 1\, [..]\nhttps://ville.saintphilippe.quebec/evenement/semaine-de-relache-p
 einture-avec-la-pate-a-modeler/
URL:https://ville.saintphilippe.quebec/evenement/semaine-de-relache-peinture-avec-la-pate-a-modeler/
END:VEVENT
END:VCALENDAR