BEGIN:VCALENDAR
VERSION:2.0
PRODID:-//eventon.com NONSGML v1.0//EN
CALSCALE:GREGORIAN
METHOD:PUBLISH
BEGIN:VEVENT
UID:69e7433c2fd14
DTSTAMP:20260421T092828Z
DTSTART:20210304T100000Z
DTEND:20210304T103000Z
LOCATION:
SUMMARY:Semaine de relâche | Atelier de cirque
DESCRIPTION:Presque sans équipement\,  vos enfants apprendront la jongleri
 e et l’équilibre d’objets. Place au spectacle! Les participants doiven
 t prévoir 3 balles\,  3 sacs et un balai. Gratuit Inscription requise lois
 irs@ville.saintphilippe.quebec 450 659-7701\,  poste 258. Le Service des lo
 isirs\,  de la culture et de la vie communautaire est heureux de vous propo
 ser[..]\nhttps://ville.saintphilippe.quebec/evenement/semaine-de-relache-at
 elier-de-cirque/
URL:https://ville.saintphilippe.quebec/evenement/semaine-de-relache-atelier-de-cirque/
END:VEVENT
END:VCALENDAR