BEGIN:VCALENDAR
VERSION:2.0
PRODID:-//eventon.com NONSGML v1.0//EN
CALSCALE:GREGORIAN
METHOD:PUBLISH
BEGIN:VEVENT
UID:69e7481dde44c
DTSTAMP:20260421T094917Z
DTSTART:20210303T140000Z
DTEND:20210303T143000Z
LOCATION:
SUMMARY:Semaine de relâche | Safari aventure
DESCRIPTION:Accompagnez le zoologiste du Parc Safari dans cette expédition
  à la découverte des chameaux\,  des bisons et des wapitis\,  alors qu’
 il nourrit les troupeaux. Gratuit Inscription requise loisirs@ville.saintph
 ilippe.quebec 450 659-7701\,  poste 258. Le Service des loisirs\,  de la cu
 lture et de la vie communautaire est heureux de vous proposer une[..]\nhttp
 s://ville.saintphilippe.quebec/evenement/semaine-de-relache-safari-aventure
 /
URL:https://ville.saintphilippe.quebec/evenement/semaine-de-relache-safari-aventure/
END:VEVENT
END:VCALENDAR