BEGIN:VCALENDAR
VERSION:2.0
PRODID:-//eventon.com NONSGML v1.0//EN
CALSCALE:GREGORIAN
METHOD:PUBLISH
BEGIN:VEVENT
UID:69e88d5d86776
DTSTAMP:20260422T085701Z
DTSTART:20201219T100000Z
DTEND:20201219T103000Z
LOCATION:Bibliothèque Le Vaisseau d’Or 2223\,  route Édouard-VII\,  Saint-Philippe
SUMMARY:Ateliers virtuels Ptits cœurs contes 18-36 mois décembre
DESCRIPTION:Nouvelle formule entièrement virtuelle pour les petits de Sain
 t-Philippe\,  conçue et animée par P’tits cœurs contes de Martine More
 au En attendant le retour des heures du conte en bibliothèque\,  on invite
  les tout-petits à participer à des activités ludiques et éducatives à
  distance. C&rsquo;est avec plaisir que la bibliothèque offre[..]\nhttps:/
 /ville.saintphilippe.quebec/evenement/ateliers-virtuels-ptits-coeurs-contes
 -18-36-mois-decembre-2/
URL:https://ville.saintphilippe.quebec/evenement/ateliers-virtuels-ptits-coeurs-contes-18-36-mois-decembre-2/
END:VEVENT
END:VCALENDAR