BEGIN:VCALENDAR
VERSION:2.0
PRODID:-//eventon.com NONSGML v1.0//EN
CALSCALE:GREGORIAN
METHOD:PUBLISH
BEGIN:VEVENT
UID:69e73163ef949
DTSTAMP:20260421T081219Z
DTSTART:20200302T100000Z
DTEND:20200302T235000Z
LOCATION:Complexe Élodie-P.-Babin 2225 route Édouard-VII
SUMMARY:Relâche | Science en folie - COMPLET
DESCRIPTION:L&rsquo;activité est complète\,  inscrivez-vous à la liste d
 &rsquo;attente. Dans le cadre de la semaine de relâche\,  la Ville de Sain
 t-Philippe propose aux jeunes de 5 à 12 ans un atelier de science. Cette c
 lasse de chimie boueuse et gluante révélera le secret de la recette de la
  glue! Les jeunes[..]\nhttps://ville.saintphilippe.quebec/evenement/relache
 -science-en-folie/
URL:https://ville.saintphilippe.quebec/evenement/relache-science-en-folie/
END:VEVENT
END:VCALENDAR