BEGIN:VCALENDAR
VERSION:2.0
PRODID:-//eventon.com NONSGML v1.0//EN
CALSCALE:GREGORIAN
METHOD:PUBLISH
BEGIN:VEVENT
UID:69e74934b9169
DTSTAMP:20260421T095356Z
DTSTART:20200221T180000Z
DTEND:20200221T210000Z
LOCATION:Complexe Élodie-P.-Babin 2225 route Édouard-VII
SUMMARY:Inscription Club de soccer Roussillon
DESCRIPTION:Soirée d&rsquo;inscription à Saint-Philippe Complexe Élodie-
 P.-Babin\,  vendredi 21 février de 18 h à 21 h. Informations: 450 993-168
 2 ou soccercsr.ca\nhttps://ville.saintphilippe.quebec/evenement/inscription
 -club-de-soccer-roussillon/
URL:https://ville.saintphilippe.quebec/evenement/inscription-club-de-soccer-roussillon/
END:VEVENT
END:VCALENDAR