BEGIN:VCALENDAR
VERSION:2.0
PRODID:-//eventon.com NONSGML v1.0//EN
CALSCALE:GREGORIAN
METHOD:PUBLISH
BEGIN:VEVENT
UID:69e75f501c735
DTSTAMP:20260421T112816Z
DTSTART:20200421T190000Z
DTEND:20200421T200000Z
LOCATION:Bibliothèque Le Vaisseau d’Or 2223\,  route Édouard-VII\,  Saint-Philippe
SUMMARY:ANNULÉE - Conférence | Sauver la planète une bouchée à la fois
DESCRIPTION:Dans le cadre de la semaine de la littérature de la MRC de Rou
 ssillon\,  la Ville de Saint-Philippe vous convie à la conférence « Sau
 ver la planète une bouchée à la fois : de la ferme à l’assiette » p
 résentée par Bernard Lavallée à la bibliothèque Le Vaisseau D&rsquo;or
 . Basée sur le[..]\nhttps://ville.saintphilippe.quebec/evenement/conferenc
 e-sauver-la-planete-une-bouchee-a-la-fois/
URL:https://ville.saintphilippe.quebec/evenement/conference-sauver-la-planete-une-bouchee-a-la-fois/
END:VEVENT
END:VCALENDAR