BEGIN:VCALENDAR
VERSION:2.0
PRODID:-//eventon.com NONSGML v1.0//EN
CALSCALE:GREGORIAN
METHOD:PUBLISH
BEGIN:VEVENT
UID:69e788847ff48
DTSTAMP:20260421T142404Z
DTSTART:20200214T190000Z
DTEND:20200214T210000Z
LOCATION:Parc Gérard-Laframboise
SUMMARY:ANNULÉ - Disco-patin | Saint-Valentin
DESCRIPTION:MISE À JOUR 10 FÉVRIER 15 H &#8211; Veuillez prendre note que
  la patinoire est fermée jusqu&rsquo;à nouvel ordre\,  l&rsquo;activité 
 de disco-patin du vendredi 14 février est annulée. Merci de votre collabo
 ration. &nbsp; Pour la soirée de la Saint-Valentin\,  on vous invite à un
 e disco-patin! De 19 h à 21[..]\nhttps://ville.saintphilippe.quebec/evenem
 ent/disco-patin-saint-valentin/
URL:https://ville.saintphilippe.quebec/evenement/disco-patin-saint-valentin/
END:VEVENT
END:VCALENDAR