BEGIN:VCALENDAR
VERSION:2.0
PRODID:-//eventon.com NONSGML v1.0//EN
CALSCALE:GREGORIAN
METHOD:PUBLISH
BEGIN:VEVENT
UID:69e8a1e36c4ef
DTSTAMP:20260422T102435Z
DTSTART:20200205T190000Z
DTEND:20200205T235000Z
LOCATION:Complexe Élodie-P.-Babin 2225 route Édouard-VII
SUMMARY:Assemblée publique de consultation - projet de règlement 401-36
DESCRIPTION:Aux personnes intéressées par le projet de règlement numéro
  401-36 modifiant le règlement de zonage numéro 401. AVIS PUBLIC est donn
 é que lors d’une séance ordinaire tenue le 10 décembre 2019\,  le Cons
 eil municipal de la Ville de Saint-Philippe a adopté le projet de règleme
 nt numéro 401-36 intitulé : Règlement modifiant[..]\nhttps://ville.sain
 tphilippe.quebec/evenement/assemblee-publique-de-consultation-projet-de-reg
 lement-401-36/
URL:https://ville.saintphilippe.quebec/evenement/assemblee-publique-de-consultation-projet-de-reglement-401-36/
END:VEVENT
END:VCALENDAR