BEGIN:VCALENDAR
VERSION:2.0
PRODID:-//eventon.com NONSGML v1.0//EN
CALSCALE:GREGORIAN
METHOD:PUBLISH
BEGIN:VEVENT
UID:69e7fe9038a65
DTSTAMP:20260421T224744Z
DTSTART:20200414T190000Z
DTEND:20200414T235000Z
LOCATION:Complexe Élodie-P.-Babin 2225 route Édouard-VII
SUMMARY:Conseil de ville à HUIS CLOS
DESCRIPTION:La séance du conseil municipal se tiendra à 19 h à huis clos
 . Vous pouvez consulter l&rsquo;ordre du jour en cliquant ici. (PDF) COVID-
 19 – Mise à jour 23 mars 2020 Conseil municipal à huis clos Saint-Phili
 ppe\,  le 23 mars 2020 – Dans le contexte de la pandémie de la COVID-19
 [..]\nhttps://ville.saintphilippe.quebec/evenement/conseil-de-ville-4/
URL:https://ville.saintphilippe.quebec/evenement/conseil-de-ville-4/
END:VEVENT
END:VCALENDAR