BEGIN:VCALENDAR
VERSION:2.0
PRODID:-//eventon.com NONSGML v1.0//EN
CALSCALE:GREGORIAN
METHOD:PUBLISH
BEGIN:VEVENT
UID:69e7e7d2989e2
DTSTAMP:20260421T211042Z
DTSTART:20200310T190000Z
DTEND:20200310T235000Z
LOCATION:Complexe Élodie-P.-Babin 2225 route Édouard-VII
SUMMARY:Conseil de ville
DESCRIPTION:La séance du conseil municipal se tiendra à 19 h au Complexe 
 Élodie-P.-Babin. Vous pouvez consulter l&rsquo;ordre du jour en cliquant i
 ci. (PDF)\nhttps://ville.saintphilippe.quebec/evenement/conseil-de-ville-3/
URL:https://ville.saintphilippe.quebec/evenement/conseil-de-ville-3/
END:VEVENT
END:VCALENDAR