BEGIN:VCALENDAR
VERSION:2.0
PRODID:-//eventon.com NONSGML v1.0//EN
CALSCALE:GREGORIAN
METHOD:PUBLISH
BEGIN:VEVENT
UID:69e75de8ee98e
DTSTAMP:20260421T112216Z
DTSTART:20200125T104000Z
DTEND:20200125T113000Z
LOCATION:Bibliothèque Le Vaisseau d’Or 2223\,  route Édouard-VII\,  Saint-Philippe
SUMMARY:Heure du conte (3-5 ans) - janvier
DESCRIPTION:Conçue et animée par le service d’animation P’tits cœurs
  contes de Martine Moreau Les heures du conte stimulent la passion de la le
 cture. Une excellente façon de découvrir des livres adaptés à l’âge 
 de vos enfants. Martine Moreau\,  éducatrice spécialisée et conteuse\,  
 présente des activités parents-enfants et des histoires interactives[..]\
 nhttps://ville.saintphilippe.quebec/evenement/heure-du-conte-3-5-ans-janvie
 r-2/
URL:https://ville.saintphilippe.quebec/evenement/heure-du-conte-3-5-ans-janvier-2/
END:VEVENT
END:VCALENDAR