BEGIN:VCALENDAR
VERSION:2.0
PRODID:-//eventon.com NONSGML v1.0//EN
CALSCALE:GREGORIAN
METHOD:PUBLISH
BEGIN:VEVENT
UID:69e7341135bbe
DTSTAMP:20260421T082345Z
DTSTART:20200219T100000Z
DTEND:20200219T103000Z
LOCATION:Bibliothèque Le Vaisseau d’Or 2223\,  route Édouard-VII\,  Saint-Philippe
SUMMARY:Heure du conte (0-2 ans) - février
DESCRIPTION:Conçue et animée par le service d’animation P’tits cœurs
  contes de Martine Moreau Les heures du conte stimulent la passion de la le
 cture. Une excellente façon de découvrir des livres adaptés à l’âge 
 de vos enfants. Martine Moreau\,  éducatrice spécialisée et conteuse\,  
 présente des activités parents-enfants et des histoires interactives[..]\
 nhttps://ville.saintphilippe.quebec/evenement/heure-du-conte-0-2-ans-fevrie
 r/
URL:https://ville.saintphilippe.quebec/evenement/heure-du-conte-0-2-ans-fevrier/
END:VEVENT
END:VCALENDAR