BEGIN:VCALENDAR
VERSION:2.0
PRODID:-//eventon.com NONSGML v1.0//EN
CALSCALE:GREGORIAN
METHOD:PUBLISH
BEGIN:VEVENT
UID:69e7434f32fcf
DTSTAMP:20260421T092847Z
DTSTART:20191201T100000Z
DTEND:20191201T150000Z
LOCATION:Complexe Élodie-P.-Babin 2225 route Édouard-VII
SUMMARY:Guignolée
DESCRIPTION:Grande Guignolée – Dimanche 1er décembre Le jour de la Gu
 ignolée\,  des bénévoles du Service d&rsquo;entraide Saint-Philippe sonn
 eront à votre porte entre 10 h et 15 h\,  pour récolter des denrées non 
 périssables. *Si vous prévoyez être absent de la maison\,  vous pouvez a
 pporter vos dons directement au Complexe Élodie-P.-Babin (2235\,  route[..
 ]\nhttps://ville.saintphilippe.quebec/evenement/guignolee-2/
URL:https://ville.saintphilippe.quebec/evenement/guignolee-2/
END:VEVENT
END:VCALENDAR