BEGIN:VCALENDAR
VERSION:2.0
PRODID:-//eventon.com NONSGML v1.0//EN
CALSCALE:GREGORIAN
METHOD:PUBLISH
BEGIN:VEVENT
UID:69e731be64f8f
DTSTAMP:20260421T081350Z
DTSTART:20191210T200000Z
DTEND:20191210T235000Z
LOCATION:Complexe Élodie-P.-Babin 2225 route Édouard-VII
SUMMARY:Conseil de ville | Séance extraordinaire
DESCRIPTION:La séance extraordinaire du conseil municipal portant sur le b
 udget se tiendra à 20 h au Complexe Élodie-P.-Babin. Vous pouvez consulte
 r l&rsquo;ordre du jour en cliquant ici. (document PDF)\nhttps://ville.sai
 ntphilippe.quebec/evenement/conseil-de-ville-seance-extraordinaire-7/
URL:https://ville.saintphilippe.quebec/evenement/conseil-de-ville-seance-extraordinaire-7/
END:VEVENT
END:VCALENDAR