BEGIN:VCALENDAR
VERSION:2.0
PRODID:-//eventon.com NONSGML v1.0//EN
CALSCALE:GREGORIAN
METHOD:PUBLISH
BEGIN:VEVENT
UID:69e5ec3114120
DTSTAMP:20260420T090449Z
DTSTART:20190914T103000Z
DTEND:20190914T113000Z
LOCATION:BibliothÃ¨que Le Vaisseau dâ€™Or 2223\,  route Ã‰douard-VII\,  Saint-Philippe
SUMMARY:Atelier de codage
DESCRIPTION:Pour les enfants de 8 Ã  12 ans (maximum 15 enfants) Un portabl
 e est nÃ©cessaire pour assister aux ateliers RÃ©servation obligatoire au 45
 0Â 659-7701\,  posteÂ 233. GrÃ¢ce Ã  Code Club Canada et notre animateur bÃ
 ©nÃ©vole\,  la bibliothÃ¨que vous offre des cours gratuits de codage. Tout 
 le monde peut apprendre Ã  coder\,  mais[..]\nhttps://ville.saintphilippe.q
 uebec/evenement/atelier-de-codage/
URL:https://ville.saintphilippe.quebec/evenement/atelier-de-codage/
END:VEVENT
END:VCALENDAR